Package: alabaster Version: 1.9.0 Command: /home/biocbuild/bbs-3.22-bioc/R/bin/R CMD INSTALL alabaster StartedAt: 2025-10-24 16:09:26 -0400 (Fri, 24 Oct 2025) EndedAt: 2025-10-24 16:10:11 -0400 (Fri, 24 Oct 2025) EllapsedTime: 45.5 seconds RetCode: 0 Status: OK