Package: alabaster Version: 1.7.0 Command: /home/biocbuild/bbs-3.21-bioc/R/bin/R CMD INSTALL alabaster StartedAt: 2025-02-05 15:56:26 -0500 (Wed, 05 Feb 2025) EndedAt: 2025-02-05 15:57:12 -0500 (Wed, 05 Feb 2025) EllapsedTime: 46.2 seconds RetCode: 0 Status: OK