Package: alabaster Version: 1.7.0 Command: /Library/Frameworks/R.framework/Resources/bin/R CMD INSTALL alabaster StartedAt: 2025-02-04 15:40:03 -0500 (Tue, 04 Feb 2025) EndedAt: 2025-02-04 15:41:03 -0500 (Tue, 04 Feb 2025) EllapsedTime: 60.0 seconds RetCode: 0 Status: OK