Package: alabaster Version: 1.7.0 Command: /Library/Frameworks/R.framework/Resources/bin/R CMD build --keep-empty-dirs --no-resave-data alabaster StartedAt: 2025-02-04 15:50:33 -0500 (Tue, 04 Feb 2025) EndedAt: 2025-02-04 15:51:25 -0500 (Tue, 04 Feb 2025) EllapsedTime: 52.7 seconds RetCode: 0 Status: OK PackageFile: alabaster_1.7.0.tar.gz PackageFileSize: 215.5 KiB