Package: alabaster Version: 1.7.0 Command: /home/biocbuild/R/R/bin/R CMD INSTALL alabaster StartedAt: 2025-01-29 20:31:19 -0000 (Wed, 29 Jan 2025) EndedAt: 2025-01-29 20:32:26 -0000 (Wed, 29 Jan 2025) EllapsedTime: 66.9 seconds RetCode: 0 Status: OK