Package: alabaster Version: 1.7.0 Command: /Library/Frameworks/R.framework/Resources/bin/R CMD INSTALL alabaster StartedAt: 2025-02-05 15:26:43 -0500 (Wed, 05 Feb 2025) EndedAt: 2025-02-05 15:27:02 -0500 (Wed, 05 Feb 2025) EllapsedTime: 18.9 seconds RetCode: 0 Status: OK