Package: alabaster Version: 1.7.0 Command: /Library/Frameworks/R.framework/Resources/bin/R CMD check --install=check:alabaster.install-out.txt --library=/Library/Frameworks/R.framework/Resources/library --no-vignettes --timings alabaster_1.7.0.tar.gz StartedAt: 2025-02-05 18:03:14 -0500 (Wed, 05 Feb 2025) EndedAt: 2025-02-05 18:04:41 -0500 (Wed, 05 Feb 2025) EllapsedTime: 87.1 seconds RetCode: 0 Status: OK CheckDir: alabaster.Rcheck Warnings: 0