Package: alabaster Version: 1.9.0 Command: /Library/Frameworks/R.framework/Resources/bin/R CMD build --keep-empty-dirs --no-resave-data alabaster StartedAt: 2025-04-29 15:35:41 -0400 (Tue, 29 Apr 2025) EndedAt: 2025-04-29 15:36:02 -0400 (Tue, 29 Apr 2025) EllapsedTime: 21.2 seconds RetCode: 0 Status: OK PackageFile: alabaster_1.9.0.tar.gz PackageFileSize: 215.5 KiB