Package: alabaster.vcf Version: 1.9.0 Command: /home/biocbuild/bbs-3.22-bioc/R/bin/R CMD INSTALL alabaster.vcf StartedAt: 2025-10-10 16:09:52 -0400 (Fri, 10 Oct 2025) EndedAt: 2025-10-10 16:10:37 -0400 (Fri, 10 Oct 2025) EllapsedTime: 44.9 seconds RetCode: 0 Status: OK