Package: alabaster.vcf Version: 1.7.0 Command: /home/biocbuild/R/R/bin/R CMD INSTALL alabaster.vcf StartedAt: 2025-01-29 20:30:18 -0000 (Wed, 29 Jan 2025) EndedAt: 2025-01-29 20:31:19 -0000 (Wed, 29 Jan 2025) EllapsedTime: 60.8 seconds RetCode: 0 Status: OK