Package: alabaster.vcf Version: 1.7.0 Command: /home/biocbuild/R/R/bin/R CMD build --keep-empty-dirs --no-resave-data alabaster.vcf StartedAt: 2025-01-29 20:47:57 -0000 (Wed, 29 Jan 2025) EndedAt: 2025-01-29 20:49:17 -0000 (Wed, 29 Jan 2025) EllapsedTime: 80.0 seconds RetCode: 1 Status: ERROR PackageFile: None PackageFileSize: NA