Package: alabaster.spatial Version: 1.7.1 Command: /home/biocbuild/R/R/bin/R CMD INSTALL alabaster.spatial StartedAt: 2025-01-10 20:31:15 -0000 (Fri, 10 Jan 2025) EndedAt: 2025-01-10 20:31:54 -0000 (Fri, 10 Jan 2025) EllapsedTime: 38.5 seconds RetCode: 0 Status: OK