Package: alabaster.spatial Version: 1.9.0 Command: rm -rf alabaster.spatial.buildbin-libdir && mkdir alabaster.spatial.buildbin-libdir && /Users/biocbuild/BBS/utils/build-universal.sh alabaster.spatial_1.9.0.tar.gz /Library/Frameworks/R.framework/Resources/bin/R alabaster.spatial.buildbin-libdir StartedAt: 2025-05-27 22:05:26 -0400 (Tue, 27 May 2025) EndedAt: 2025-05-27 22:05:39 -0400 (Tue, 27 May 2025) EllapsedTime: 13.2 seconds RetCode: 0 Status: OK PackageFile: alabaster.spatial_1.9.0.tgz PackageFileSize: 906.7 KiB