Package: alabaster.sfe Version: 1.1.0 Command: /home/biocbuild/bbs-3.22-bioc/R/bin/R CMD INSTALL alabaster.sfe StartedAt: 2025-10-10 15:47:11 -0400 (Fri, 10 Oct 2025) EndedAt: 2025-10-10 15:48:01 -0400 (Fri, 10 Oct 2025) EllapsedTime: 50.7 seconds RetCode: 0 Status: OK