Package: alabaster.sfe Version: 1.3.0 Command: /Library/Frameworks/R.framework/Resources/bin/R CMD INSTALL alabaster.sfe StartedAt: 2025-11-21 15:18:41 -0500 (Fri, 21 Nov 2025) EndedAt: 2025-11-21 15:19:01 -0500 (Fri, 21 Nov 2025) EllapsedTime: 20.4 seconds RetCode: 0 Status: OK