Package: alabaster.sfe Version: 1.3.0 Command: /Library/Frameworks/R.framework/Resources/bin/R CMD build --keep-empty-dirs --no-resave-data alabaster.sfe StartedAt: 2025-11-21 15:36:03 -0500 (Fri, 21 Nov 2025) EndedAt: 2025-11-21 15:36:59 -0500 (Fri, 21 Nov 2025) EllapsedTime: 55.6 seconds RetCode: 0 Status: OK PackageFile: alabaster.sfe_1.3.0.tar.gz PackageFileSize: 3.87 MiB