Package: alabaster.sce Version: 1.7.0 Command: E:\biocbuild\bbs-3.21-bioc\R\bin\R.exe CMD INSTALL alabaster.sce StartedAt: 2025-02-05 16:54:46 -0500 (Wed, 05 Feb 2025) EndedAt: 2025-02-05 16:55:19 -0500 (Wed, 05 Feb 2025) EllapsedTime: 33.7 seconds RetCode: 0 Status: OK