Package: alabaster.sce Version: 1.9.0 Command: /Library/Frameworks/R.framework/Resources/bin/R CMD check --install=check:alabaster.sce.install-out.txt --library=/Library/Frameworks/R.framework/Resources/library --no-vignettes --timings alabaster.sce_1.9.0.tar.gz StartedAt: 2025-05-01 18:57:17 -0400 (Thu, 01 May 2025) EndedAt: 2025-05-01 19:01:21 -0400 (Thu, 01 May 2025) EllapsedTime: 243.8 seconds RetCode: 0 Status: OK CheckDir: alabaster.sce.Rcheck Warnings: 0