Package: alabaster.sce Version: 1.9.0 Command: /Library/Frameworks/R.framework/Resources/bin/R CMD build --keep-empty-dirs --no-resave-data alabaster.sce StartedAt: 2025-05-01 15:54:16 -0400 (Thu, 01 May 2025) EndedAt: 2025-05-01 15:55:02 -0400 (Thu, 01 May 2025) EllapsedTime: 45.8 seconds RetCode: 0 Status: OK PackageFile: alabaster.sce_1.9.0.tar.gz PackageFileSize: 220.3 KiB