Package: alabaster.sce Version: 1.7.0 Command: rm -rf alabaster.sce.buildbin-libdir && mkdir alabaster.sce.buildbin-libdir && /Users/biocbuild/BBS/utils/build-universal.sh alabaster.sce_1.7.0.tar.gz /Library/Frameworks/R.framework/Resources/bin/R alabaster.sce.buildbin-libdir StartedAt: 2025-02-06 00:18:19 -0500 (Thu, 06 Feb 2025) EndedAt: 2025-02-06 00:19:01 -0500 (Thu, 06 Feb 2025) EllapsedTime: 41.6 seconds RetCode: 0 Status: OK PackageFile: alabaster.sce_1.7.0.tgz PackageFileSize: 293.8 KiB