Package: alabaster.sce Version: 1.7.0 Command: /home/biocbuild/R/R/bin/R CMD check --install=check:alabaster.sce.install-out.txt --library=/home/biocbuild/R/R/site-library --no-vignettes --timings alabaster.sce_1.7.0.tar.gz StartedAt: 2025-01-28 03:29:01 -0000 (Tue, 28 Jan 2025) EndedAt: 2025-01-28 03:33:14 -0000 (Tue, 28 Jan 2025) EllapsedTime: 252.3 seconds RetCode: 1 Status: ERROR CheckDir: alabaster.sce.Rcheck Warnings: NA