Package: alabaster.sce Version: 1.7.0 Command: /Library/Frameworks/R.framework/Resources/bin/R CMD check --install=check:alabaster.sce.install-out.txt --library=/Library/Frameworks/R.framework/Resources/library --no-vignettes --timings alabaster.sce_1.7.0.tar.gz StartedAt: 2025-02-05 18:03:51 -0500 (Wed, 05 Feb 2025) EndedAt: 2025-02-05 18:05:10 -0500 (Wed, 05 Feb 2025) EllapsedTime: 79.0 seconds RetCode: 0 Status: OK CheckDir: alabaster.sce.Rcheck Warnings: 0