##############################################################################
##############################################################################
###
### Running command:
###
###   rm -rf alabaster.sce.buildbin-libdir && mkdir alabaster.sce.buildbin-libdir && /Users/biocbuild/BBS/utils/build-universal.sh alabaster.sce_1.7.0.tar.gz /Library/Frameworks/R.framework/Resources/bin/R alabaster.sce.buildbin-libdir
###
##############################################################################
##############################################################################


>>>>>>> 
>>>>>>> INSTALLATION WITH 'R CMD INSTALL --preclean --no-multiarch --library=alabaster.sce.buildbin-libdir alabaster.sce_1.7.0.tar.gz'
>>>>>>> 

* installing *source* package ‘alabaster.sce’ ...
** this is package ‘alabaster.sce’ version ‘1.7.0’
** using staged installation
** R
** inst
** byte-compile and prepare package for lazy loading
** help
*** installing help indices
** building package indices
** installing vignettes
** testing if installed package can be loaded from temporary location
** testing if installed package can be loaded from final location
** testing if installed package keeps a record of temporary installation path
* DONE (alabaster.sce)