Package: alabaster.ranges Version: 1.7.0 Command: /Library/Frameworks/R.framework/Resources/bin/R CMD build --keep-empty-dirs --no-resave-data alabaster.ranges StartedAt: 2025-02-03 15:56:03 -0500 (Mon, 03 Feb 2025) EndedAt: 2025-02-03 15:56:22 -0500 (Mon, 03 Feb 2025) EllapsedTime: 19.5 seconds RetCode: 0 Status: OK PackageFile: alabaster.ranges_1.7.0.tar.gz PackageFileSize: 225.5 KiB