Package: alabaster.ranges Version: 1.9.0 Command: /Library/Frameworks/R.framework/Resources/bin/R CMD INSTALL alabaster.ranges StartedAt: 2025-05-08 15:10:22 -0400 (Thu, 08 May 2025) EndedAt: 2025-05-08 15:10:28 -0400 (Thu, 08 May 2025) EllapsedTime: 5.3 seconds RetCode: 0 Status: OK