Package: alabaster.ranges Version: 1.7.0 Command: /Library/Frameworks/R.framework/Resources/bin/R CMD check --install=check:alabaster.ranges.install-out.txt --library=/Library/Frameworks/R.framework/Resources/library --no-vignettes --timings alabaster.ranges_1.7.0.tar.gz StartedAt: 2025-02-03 18:37:07 -0500 (Mon, 03 Feb 2025) EndedAt: 2025-02-03 18:37:41 -0500 (Mon, 03 Feb 2025) EllapsedTime: 34.5 seconds RetCode: 0 Status: OK CheckDir: alabaster.ranges.Rcheck Warnings: 0