Package: alabaster.matrix Version: 1.9.0 Command: /home/biocbuild/R/R/bin/R CMD INSTALL alabaster.matrix StartedAt: 2025-10-13 21:17:54 -0000 (Mon, 13 Oct 2025) EndedAt: 2025-10-13 21:18:30 -0000 (Mon, 13 Oct 2025) EllapsedTime: 35.9 seconds RetCode: 0 Status: OK