Package: alabaster.matrix Version: 1.9.0 Command: chmod a+r alabaster.matrix -R && F:\biocbuild\bbs-3.22-bioc\R\bin\R.exe CMD build --keep-empty-dirs --no-resave-data alabaster.matrix StartedAt: 2025-08-14 18:23:33 -0400 (Thu, 14 Aug 2025) EndedAt: 2025-08-14 18:24:42 -0400 (Thu, 14 Aug 2025) EllapsedTime: 69.7 seconds RetCode: 0 Status: OK PackageFile: alabaster.matrix_1.9.0.tar.gz PackageFileSize: 274.5 KiB