Package: alabaster.matrix Version: 1.7.6 Command: /Library/Frameworks/R.framework/Resources/bin/R CMD build --keep-empty-dirs --no-resave-data alabaster.matrix StartedAt: 2025-02-05 15:50:39 -0500 (Wed, 05 Feb 2025) EndedAt: 2025-02-05 15:51:19 -0500 (Wed, 05 Feb 2025) EllapsedTime: 40.0 seconds RetCode: 0 Status: OK PackageFile: alabaster.matrix_1.7.6.tar.gz PackageFileSize: 273.4 KiB