Package: alabaster.matrix Version: 1.7.6 Command: /home/biocbuild/R/R/bin/R CMD build --keep-empty-dirs --no-resave-data alabaster.matrix StartedAt: 2025-01-29 20:47:27 -0000 (Wed, 29 Jan 2025) EndedAt: 2025-01-29 20:48:16 -0000 (Wed, 29 Jan 2025) EllapsedTime: 49.0 seconds RetCode: 0 Status: OK PackageFile: alabaster.matrix_1.7.6.tar.gz PackageFileSize: 297.7 KiB