Package: alabaster.matrix Version: 1.7.6 Command: /Library/Frameworks/R.framework/Resources/bin/R CMD check --install=check:alabaster.matrix.install-out.txt --library=/Library/Frameworks/R.framework/Resources/library --no-vignettes --timings alabaster.matrix_1.7.6.tar.gz StartedAt: 2025-02-05 18:03:24 -0500 (Wed, 05 Feb 2025) EndedAt: 2025-02-05 18:04:47 -0500 (Wed, 05 Feb 2025) EllapsedTime: 83.0 seconds RetCode: 0 Status: OK CheckDir: alabaster.matrix.Rcheck Warnings: 0