Package: alabaster.mae Version: 1.9.0 Command: /Library/Frameworks/R.framework/Resources/bin/R CMD check --install=check:alabaster.mae.install-out.txt --library=/Library/Frameworks/R.framework/Resources/library --no-vignettes --timings alabaster.mae_1.9.0.tar.gz StartedAt: 2025-05-20 17:56:51 -0400 (Tue, 20 May 2025) EndedAt: 2025-05-20 17:58:19 -0400 (Tue, 20 May 2025) EllapsedTime: 88.1 seconds RetCode: 0 Status: OK CheckDir: alabaster.mae.Rcheck Warnings: 0