Package: alabaster.files Version: 1.7.0 Command: /home/biocbuild/bbs-3.22-bioc/R/bin/R CMD INSTALL alabaster.files StartedAt: 2025-10-08 15:34:33 -0400 (Wed, 08 Oct 2025) EndedAt: 2025-10-08 15:34:48 -0400 (Wed, 08 Oct 2025) EllapsedTime: 14.9 seconds RetCode: 0 Status: OK