Package: alabaster.files Version: 1.7.0 Command: /home/biocbuild/bbs-3.22-bioc/R/bin/R CMD build --keep-empty-dirs --no-resave-data --md5 alabaster.files StartedAt: 2025-10-08 16:30:27 -0400 (Wed, 08 Oct 2025) EndedAt: 2025-10-08 16:30:50 -0400 (Wed, 08 Oct 2025) EllapsedTime: 23.0 seconds RetCode: 0 Status: OK PackageFile: alabaster.files_1.7.0.tar.gz PackageFileSize: 236.2 KiB