Package: alabaster.files Version: 1.5.0 Command: /home/biocbuild/bbs-3.21-bioc/R/bin/R CMD INSTALL alabaster.files StartedAt: 2025-02-03 15:31:34 -0500 (Mon, 03 Feb 2025) EndedAt: 2025-02-03 15:31:48 -0500 (Mon, 03 Feb 2025) EllapsedTime: 14.1 seconds RetCode: 0 Status: OK