Package: alabaster.files Version: 1.7.0 Command: rm -rf alabaster.files.buildbin-libdir && mkdir alabaster.files.buildbin-libdir && /Users/biocbuild/BBS/utils/build-universal.sh alabaster.files_1.7.0.tar.gz /Library/Frameworks/R.framework/Resources/bin/R alabaster.files.buildbin-libdir StartedAt: 2025-05-05 00:34:17 -0400 (Mon, 05 May 2025) EndedAt: 2025-05-05 00:34:42 -0400 (Mon, 05 May 2025) EllapsedTime: 25.2 seconds RetCode: 0 Status: OK PackageFile: alabaster.files_1.7.0.tgz PackageFileSize: 570.6 KiB