Package: alabaster.files Version: 1.5.0 Command: /home/biocbuild/R/R/bin/R CMD build --keep-empty-dirs --no-resave-data alabaster.files StartedAt: 2025-01-29 20:47:08 -0000 (Wed, 29 Jan 2025) EndedAt: 2025-01-29 20:47:35 -0000 (Wed, 29 Jan 2025) EllapsedTime: 27.0 seconds RetCode: 0 Status: OK PackageFile: alabaster.files_1.5.0.tar.gz PackageFileSize: 260.3 KiB