Package: alabaster.files Version: 1.5.0 Command: /Library/Frameworks/R.framework/Resources/bin/R CMD check --install=check:alabaster.files.install-out.txt --library=/Library/Frameworks/R.framework/Resources/library --no-vignettes --timings alabaster.files_1.5.0.tar.gz StartedAt: 2025-02-03 18:36:56 -0500 (Mon, 03 Feb 2025) EndedAt: 2025-02-03 18:37:39 -0500 (Mon, 03 Feb 2025) EllapsedTime: 43.6 seconds RetCode: 0 Status: OK CheckDir: alabaster.files.Rcheck Warnings: 0