Package: alabaster.bumpy Version: 1.7.0 Command: chmod a+r alabaster.bumpy -R && E:\biocbuild\bbs-3.21-bioc\R\bin\R.exe CMD build --keep-empty-dirs --no-resave-data alabaster.bumpy StartedAt: 2025-02-02 17:08:18 -0500 (Sun, 02 Feb 2025) EndedAt: 2025-02-02 17:08:45 -0500 (Sun, 02 Feb 2025) EllapsedTime: 27.5 seconds RetCode: 0 Status: OK PackageFile: alabaster.bumpy_1.7.0.tar.gz PackageFileSize: 235.4 KiB