Package: alabaster.bumpy Version: 1.7.0 Command: rm -rf alabaster.bumpy.buildbin-libdir && mkdir alabaster.bumpy.buildbin-libdir && E:\biocbuild\bbs-3.21-bioc\R\bin\R.exe CMD INSTALL --build --library=alabaster.bumpy.buildbin-libdir alabaster.bumpy_1.7.0.tar.gz StartedAt: 2025-02-06 07:28:42 -0500 (Thu, 06 Feb 2025) EndedAt: 2025-02-06 07:29:01 -0500 (Thu, 06 Feb 2025) EllapsedTime: 19.7 seconds RetCode: 0 Status: OK PackageFile: alabaster.bumpy_1.7.0.zip PackageFileSize: 274.9 KiB