Package: alabaster.bumpy Version: 1.7.0 Command: /home/biocbuild/bbs-3.21-bioc/R/bin/R CMD INSTALL alabaster.bumpy StartedAt: 2025-02-03 15:32:52 -0500 (Mon, 03 Feb 2025) EndedAt: 2025-02-03 15:33:04 -0500 (Mon, 03 Feb 2025) EllapsedTime: 12.2 seconds RetCode: 0 Status: OK