Package: alabaster.bumpy Version: 1.7.0 Command: /home/biocbuild/bbs-3.21-bioc/R/bin/R CMD check --install=check:alabaster.bumpy.install-out.txt --library=/home/biocbuild/bbs-3.21-bioc/R/site-library --timings alabaster.bumpy_1.7.0.tar.gz StartedAt: 2025-02-03 20:04:56 -0500 (Mon, 03 Feb 2025) EndedAt: 2025-02-03 20:06:26 -0500 (Mon, 03 Feb 2025) EllapsedTime: 90.2 seconds RetCode: 0 Status: OK CheckDir: alabaster.bumpy.Rcheck Warnings: 0