Package: alabaster.bumpy Version: 1.7.0 Command: /Library/Frameworks/R.framework/Resources/bin/R CMD build --keep-empty-dirs --no-resave-data alabaster.bumpy StartedAt: 2025-02-02 15:49:22 -0500 (Sun, 02 Feb 2025) EndedAt: 2025-02-02 15:49:43 -0500 (Sun, 02 Feb 2025) EllapsedTime: 20.5 seconds RetCode: 0 Status: OK PackageFile: alabaster.bumpy_1.7.0.tar.gz PackageFileSize: 235.4 KiB