Package: alabaster.bumpy Version: 1.9.0 Command: rm -rf alabaster.bumpy.buildbin-libdir && mkdir alabaster.bumpy.buildbin-libdir && /Users/biocbuild/BBS/utils/build-universal.sh alabaster.bumpy_1.9.0.tar.gz /Library/Frameworks/R.framework/Resources/bin/R alabaster.bumpy.buildbin-libdir StartedAt: 2025-04-30 00:27:59 -0400 (Wed, 30 Apr 2025) EndedAt: 2025-04-30 00:28:21 -0400 (Wed, 30 Apr 2025) EllapsedTime: 22.1 seconds RetCode: 0 Status: OK PackageFile: alabaster.bumpy_1.9.0.tgz PackageFileSize: 276.7 KiB