Package: alabaster.bumpy Version: 1.7.0 Command: /home/biocbuild/R/R/bin/R CMD check --install=check:alabaster.bumpy.install-out.txt --library=/home/biocbuild/R/R/site-library --no-vignettes --timings alabaster.bumpy_1.7.0.tar.gz StartedAt: 2025-01-28 03:28:45 -0000 (Tue, 28 Jan 2025) EndedAt: 2025-01-28 03:30:36 -0000 (Tue, 28 Jan 2025) EllapsedTime: 110.2 seconds RetCode: 1 Status: ERROR CheckDir: alabaster.bumpy.Rcheck Warnings: NA