Package: alabaster.bumpy Version: 1.7.0 Command: /Library/Frameworks/R.framework/Resources/bin/R CMD INSTALL alabaster.bumpy StartedAt: 2025-02-05 15:04:09 -0500 (Wed, 05 Feb 2025) EndedAt: 2025-02-05 15:04:14 -0500 (Wed, 05 Feb 2025) EllapsedTime: 4.4 seconds RetCode: 0 Status: OK