Package: alabaster.bumpy Version: 1.7.0 Command: /Library/Frameworks/R.framework/Resources/bin/R CMD build --keep-empty-dirs --no-resave-data alabaster.bumpy StartedAt: 2025-01-31 15:31:41 -0500 (Fri, 31 Jan 2025) EndedAt: 2025-01-31 15:31:48 -0500 (Fri, 31 Jan 2025) EllapsedTime: 7.1 seconds RetCode: 0 Status: OK PackageFile: alabaster.bumpy_1.7.0.tar.gz PackageFileSize: 235.4 KiB