Package: agilp Version: 3.39.0 Command: E:\biocbuild\bbs-3.21-bioc\R\bin\R.exe CMD INSTALL agilp StartedAt: 2025-02-03 15:31:01 -0500 (Mon, 03 Feb 2025) EndedAt: 2025-02-03 15:31:23 -0500 (Mon, 03 Feb 2025) EllapsedTime: 22.0 seconds RetCode: 0 Status: OK