Package: agilp Version: 3.39.0 Command: E:\biocbuild\bbs-3.21-bioc\R\bin\R.exe CMD check --no-multiarch --install=check:agilp.install-out.txt --library=E:\biocbuild\bbs-3.21-bioc\R\library --no-vignettes --timings agilp_3.39.0.tar.gz StartedAt: 2025-02-03 23:00:39 -0500 (Mon, 03 Feb 2025) EndedAt: 2025-02-03 23:01:06 -0500 (Mon, 03 Feb 2025) EllapsedTime: 26.8 seconds RetCode: 0 Status: OK CheckDir: agilp.Rcheck Warnings: 0