Package: agilp Version: 3.39.0 Command: /home/biocbuild/bbs-3.21-bioc/R/bin/R CMD INSTALL agilp StartedAt: 2025-02-05 15:02:28 -0500 (Wed, 05 Feb 2025) EndedAt: 2025-02-05 15:02:37 -0500 (Wed, 05 Feb 2025) EllapsedTime: 9.2 seconds RetCode: 0 Status: OK